BEGIN:VCALENDAR
VERSION:2.0
PRODID:-//hacksw/handcal//NONSGML v1.0//EN
BEGIN:VEVENT
SUMMARY:Entrainement pour tous - Dimanche 26 Avril - 9h30
UID:b480eb16-beec-45da-9dda-4a48317dfd3b
DTSTART:20260426T073000Z
DTEND:20260426T110000Z
LOCATION:Localisation   
CATEGORIES:Entrainement
STATUS:
URL;VALUE=URI:https://www.avironvernon.fr/evenements/2026/04/26/entrainement-pour-tous-dimanche-26-avril-9h30-2443962
END:VEVENT
END:VCALENDAR
