BEGIN:VCALENDAR
VERSION:2.0
PRODID:-//hacksw/handcal//NONSGML v1.0//EN
BEGIN:VEVENT
SUMMARY:Entrainement pour tous . Samedi 25 Avril - 9h30
UID:8729f72b-dafb-46b6-83e1-2919fd34f121
DTSTART:20260425T073000Z
DTEND:20260425T110000Z
LOCATION:Localisation   
CATEGORIES:Entrainement
STATUS:
URL;VALUE=URI:https://www.avironvernon.fr/evenements/2026/04/25/entrainement-pour-tous-samedi-25-avril-9h30-2443956
END:VEVENT
END:VCALENDAR
