BEGIN:VCALENDAR
VERSION:2.0
PRODID:-//hacksw/handcal//NONSGML v1.0//EN
BEGIN:VEVENT
SUMMARY:Entrainement ramerie venitienne - Dimanche 12 Avril
UID:7cf4e355-85d7-4b09-83db-4cce034549d7
DTSTART:20260412T073000Z
DTEND:20260412T110000Z
LOCATION:Localisation   
CATEGORIES:Entrainement
STATUS:
URL;VALUE=URI:https://www.avironvernon.fr/evenements/2026/04/12/entrainement-ramerie-venitienne-dimanche-12-avril-2438830
END:VEVENT
END:VCALENDAR
