BEGIN:VCALENDAR
VERSION:2.0
PRODID:-//hacksw/handcal//NONSGML v1.0//EN
BEGIN:VEVENT
SUMMARY:Entrainement pour tous - Dimanche 12 Avril
UID:5fb1a22f-2e6a-4e70-8a49-077956963e9b
DTSTART:20260412T073000Z
DTEND:20260412T110000Z
LOCATION:Localisation   
CATEGORIES:Entrainement
STATUS:
URL;VALUE=URI:https://www.avironvernon.fr/evenements/2026/04/12/entrainement-pour-tous-dimanche-12-avril-2438819
END:VEVENT
END:VCALENDAR
