BEGIN:VCALENDAR
VERSION:2.0
PRODID:-//hacksw/handcal//NONSGML v1.0//EN
BEGIN:VEVENT
SUMMARY:Entrainement pour tous - Samedi 11 Avril - 9h30
UID:c5c114f9-2c2d-4eac-a3fa-3a561572217c
DTSTART:20260411T073000Z
DTEND:20260411T110000Z
LOCATION:Localisation   
CATEGORIES:Entrainement
STATUS:
URL;VALUE=URI:https://www.avironvernon.fr/evenements/2026/04/11/entrainement-pour-tous-samedi-11-avril-9h30-2438818
END:VEVENT
END:VCALENDAR
