BEGIN:VCALENDAR
VERSION:2.0
PRODID:-//hacksw/handcal//NONSGML v1.0//EN
BEGIN:VEVENT
SUMMARY:Entrainement pour tous Jeudi 9 Avril - 19h00
UID:f972d2cd-1ce3-41f2-ae40-3b9ddcf12866
DTSTART:20260409T170000Z
DTEND:20260409T190000Z
LOCATION:Localisation   
CATEGORIES:Entrainement
STATUS:
URL;VALUE=URI:https://www.avironvernon.fr/evenements/2026/04/09/entrainement-pour-tous-jeudi-9-avril-19h00-2438815
END:VEVENT
END:VCALENDAR
